BEGIN:VCALENDAR
VERSION:2.0
PRODID:-//AudioTheme 1.8.2
BEGIN:VEVENT
UID:http://stango.ru/?post_type=audiotheme_gig&#038;p=3723
URL:http://stango.ru/shows/for-international-day-of-tango/
DTSTART;VALUE=DATE:20211210
SUMMARY:For  International day of  Tango
DESCRIPTION:For  International day of  Tango 
LOCATION:Moscow International house of Music\, Москва\, Космодамианская  набережная\, дом 52\, строение 8\, Россия\, 115054
END:VEVENT
END:VCALENDAR