BEGIN:VCALENDAR
VERSION:2.0
PRODID:-//AudioTheme 1.8.2
BEGIN:VEVENT
UID:http://stango.ru/?post_type=audiotheme_gig&#038;p=3285
URL:http://stango.ru/shows/gaillard-france/
DTSTART;VALUE=DATE:20200208
SUMMARY:Gaillard/ France
LOCATION:Gaillard\, Gaillard\, \, France 
END:VEVENT
END:VCALENDAR