BEGIN:VCALENDAR
VERSION:2.0
PRODID:-//AudioTheme 1.8.2
BEGIN:VEVENT
UID:http://stango.ru/?post_type=audiotheme_gig&#038;p=2895
URL:http://stango.ru/shows/gala-concert-moscow-tango-holidays-v/
DTSTART;VALUE=DATE:20180105
SUMMARY:Gala Concert "Moscow Tango Holidays V"
DESCRIPTION:"Золотой Век Танго"
LOCATION:Moscow International house of Music\, Москва\, Космодамианская  набережная\, дом 52\, строение 8\, Россия\, 115054
END:VEVENT
END:VCALENDAR