BEGIN:VCALENDAR
VERSION:2.0
PRODID:-//AudioTheme 1.8.2
BEGIN:VEVENT
UID:http://stango.ru/?post_type=audiotheme_gig&#038;p=2608
URL:http://stango.ru/shows/germany-2/
DTSTART;VALUE=DATE:20171028
SUMMARY:Germany
DESCRIPTION:Tango Spirit
LOCATION:Basthorst\, Basthorst\, \, Germany
END:VEVENT
END:VCALENDAR