BEGIN:VCALENDAR
VERSION:2.0
PRODID:-//AudioTheme 1.8.2
BEGIN:VEVENT
UID:http://stango.ru/?post_type=audiotheme_gig&#038;p=4402
URL:http://stango.ru/shows/ghedi-3/
DTSTART;VALUE=DATE:20250817
SUMMARY:GHEDI
DESCRIPTION:GHEDI TANGO FESTIVAL
LOCATION:Ghedi\, Italy
END:VEVENT
END:VCALENDAR