BEGIN:VCALENDAR
VERSION:2.0
PRODID:-//AudioTheme 1.8.2
BEGIN:VEVENT
UID:http://stango.ru/?post_type=audiotheme_gig&#038;p=1991
URL:http://stango.ru/shows/gig-1991/
DTSTART;VALUE=DATE:20160515
SUMMARY:Luzern
DESCRIPTION:Luzern\, Switzerland
LOCATION:Luzern
END:VEVENT
END:VCALENDAR