BEGIN:VCALENDAR
VERSION:2.0
PRODID:-//AudioTheme 1.8.2
BEGIN:VEVENT
UID:http://stango.ru/?post_type=audiotheme_gig&#038;p=2923
URL:http://stango.ru/shows/gig-2923/
DTSTART;VALUE=DATE:20171027
SUMMARY:Basthorst
LOCATION:Basthorst\, Basthorst\, \, Germany
END:VEVENT
END:VCALENDAR