BEGIN:VCALENDAR
VERSION:2.0
PRODID:-//AudioTheme 1.8.2
BEGIN:VEVENT
UID:http://stango.ru/?post_type=audiotheme_gig&#038;p=3345
URL:http://stango.ru/shows/gig-3345/
DTSTART;VALUE=DATE:20191204
SUMMARY:Moscow
DESCRIPTION:Argentinian embassy event in Central Market of Moscow 
LOCATION:Moscow Central market
END:VEVENT
END:VCALENDAR