BEGIN:VCALENDAR
VERSION:2.0
PRODID:-//AudioTheme 1.8.2
BEGIN:VEVENT
UID:http://stango.ru/?post_type=audiotheme_gig&#038;p=3731
URL:http://stango.ru/shows/gig-3731/
DTSTART;VALUE=DATE:20220414
SUMMARY:Московский  Дом Музыки
DESCRIPTION:Московский  Международный  Дом Музыки (театральный  зал) 
LOCATION:Moscow International house of Music\, Москва\, Космодамианская  набережная\, дом 52\, строение 8\, Россия\, 115054
END:VEVENT
END:VCALENDAR