BEGIN:VCALENDAR
VERSION:2.0
PRODID:-//AudioTheme 1.8.2
BEGIN:VEVENT
UID:http://stango.ru/?post_type=audiotheme_gig&#038;p=4421
URL:http://stango.ru/shows/gig-4421/
DTSTART;VALUE=DATE:20251115
SUMMARY:Padova
DESCRIPTION:With  Chino Laborde
LOCATION:Padova\, Italy 
END:VEVENT
END:VCALENDAR