BEGIN:VCALENDAR
VERSION:2.0
PRODID:-//AudioTheme 1.8.2
BEGIN:VEVENT
UID:http://stango.ru/?post_type=audiotheme_gig&#038;p=2969
URL:http://stango.ru/shows/heidelberg/
DTSTART;VALUE=DATE:20180630
SUMMARY:Heidelberg
LOCATION:Heidelberg\, Heidelberg \, \, Germany
END:VEVENT
END:VCALENDAR