BEGIN:VCALENDAR
VERSION:2.0
PRODID:-//AudioTheme 1.8.2
BEGIN:VEVENT
UID:http://stango.ru/?post_type=audiotheme_gig&#038;p=3350
URL:http://stango.ru/shows/helsinki/
DTSTART;VALUE=DATE:20200222
SUMMARY:Helsinki
DESCRIPTION:TangoFrostbite festival 
LOCATION:Frostbite  tango festival\, Helsinki \, \, Finland 
END:VEVENT
END:VCALENDAR