BEGIN:VCALENDAR
VERSION:2.0
PRODID:-//AudioTheme 1.8.2
BEGIN:VEVENT
UID:http://stango.ru/?post_type=audiotheme_gig&#038;p=2973
URL:http://stango.ru/shows/istanbul-2/
DTSTART;VALUE=DATE:20180307
SUMMARY:Istanbul
DESCRIPTION:X Istanbul Tango Festival   Solo Tango Show in Istanbul 
LOCATION:TanGo to Istanbul festival\, Istanbul\, \, Turkey
END:VEVENT
END:VCALENDAR