BEGIN:VCALENDAR
VERSION:2.0
PRODID:-//AudioTheme 1.8.2
BEGIN:VEVENT
UID:http://stango.ru/?post_type=audiotheme_gig&#038;p=4273
URL:http://stango.ru/shows/italy-10/
DTSTART;VALUE=DATE:20240815
SUMMARY:Italy
LOCATION:Ghedi\, Italy
END:VEVENT
END:VCALENDAR