BEGIN:VCALENDAR
VERSION:2.0
PRODID:-//AudioTheme 1.8.2
BEGIN:VEVENT
UID:http://stango.ru/?post_type=audiotheme_gig&#038;p=4392
URL:http://stango.ru/shows/italy-12/
DTSTART;VALUE=DATE:20250705
SUMMARY:Italy
LOCATION:Gubbio\, Italy
END:VEVENT
END:VCALENDAR