BEGIN:VCALENDAR
VERSION:2.0
PRODID:-//AudioTheme 1.8.2
BEGIN:VEVENT
UID:http://stango.ru/?post_type=audiotheme_gig&#038;p=2671
URL:http://stango.ru/shows/italy-5/
DTSTART;VALUE=DATE:20170701
SUMMARY:Italy
LOCATION:Orvieto\, Orvieto\, \, Italy
END:VEVENT
END:VCALENDAR