BEGIN:VCALENDAR
VERSION:2.0
PRODID:-//AudioTheme 1.8.2
BEGIN:VEVENT
UID:http://stango.ru/?post_type=audiotheme_gig&#038;p=3291
URL:http://stango.ru/shows/kaluga-3/
DTSTART;VALUE=DATE:20190927
SUMMARY:Kaluga
LOCATION:Kaluga\, Kaluga\, \, Russia
END:VEVENT
END:VCALENDAR