BEGIN:VCALENDAR
VERSION:2.0
PRODID:-//AudioTheme 1.8.2
BEGIN:VEVENT
UID:http://stango.ru/?post_type=audiotheme_gig&#038;p=2396
URL:http://stango.ru/shows/kaluga/
DTSTART;TZID=GMT:20160915T000000
SUMMARY:Kaluga
DESCRIPTION:House of Music Kaluga
LOCATION:Kaluga\, Kaluga\, \, Russia
END:VEVENT
END:VCALENDAR