BEGIN:VCALENDAR
VERSION:2.0
PRODID:-//AudioTheme 1.8.2
BEGIN:VEVENT
UID:http://stango.ru/?post_type=audiotheme_gig&#038;p=3150
URL:http://stango.ru/shows/lisbona/
DTSTART;VALUE=DATE:20191026
SUMMARY:Lisbona
DESCRIPTION:25-28 Lisbon Tango festival 
LOCATION:Lisbona
END:VEVENT
END:VCALENDAR