BEGIN:VCALENDAR
VERSION:2.0
PRODID:-//AudioTheme 1.8.2
BEGIN:VEVENT
UID:http://stango.ru/?post_type=audiotheme_gig&#038;p=3594
URL:http://stango.ru/shows/live-streaming-concert-juntos/
DTSTART;VALUE=DATE:20201207
SUMMARY:Live streaming  concert "JUNTOS"
LOCATION:Moscow Embajada Argentina\, Bolshaya Ordynka\, 72\, Moscow\, \, Russia 
END:VEVENT
END:VCALENDAR