BEGIN:VCALENDAR
VERSION:2.0
PRODID:-//AudioTheme 1.8.2
BEGIN:VEVENT
UID:http://stango.ru/?post_type=audiotheme_gig&#038;p=2387
URL:http://stango.ru/shows/maailmantango-festivaali/
DTSTART;TZID=GMT:20160917T200000
SUMMARY:Maailmantango-festivaali
DESCRIPTION:Maailmantango-festivaali
LOCATION:Tampere\, Tampere\, \, Finland
END:VEVENT
END:VCALENDAR