BEGIN:VCALENDAR
VERSION:2.0
PRODID:-//AudioTheme 1.8.2
BEGIN:VEVENT
UID:http://stango.ru/?post_type=audiotheme_gig&#038;p=3027
URL:http://stango.ru/shows/marisol-martinez-solo-tango-orquesta-2/
DTSTART;VALUE=DATE:20180607
SUMMARY:Marisol Martinez & Solo Tango Orquesta
LOCATION:Нижний  Новгород\, Нижний  Новгород\, \, Россия
END:VEVENT
END:VCALENDAR