BEGIN:VCALENDAR
VERSION:2.0
PRODID:-//AudioTheme 1.8.2
BEGIN:VEVENT
UID:http://stango.ru/?post_type=audiotheme_gig&#038;p=2648
URL:http://stango.ru/shows/milonga-el-calor-moscow/
DTSTART;VALUE=DATE:20170308
SUMMARY:Milonga El Calor / Moscow
LOCATION:El calor
END:VEVENT
END:VCALENDAR