BEGIN:VCALENDAR
VERSION:2.0
PRODID:-//AudioTheme 1.8.2
BEGIN:VEVENT
UID:http://stango.ru/?post_type=audiotheme_gig&#038;p=3059
URL:http://stango.ru/shows/mooscow-milonga/
DTSTART;VALUE=DATE:20181002
SUMMARY:Moscow / Milonga
DESCRIPTION:Milonga El Calor  with  Ariel Ardit 
LOCATION:Moscow\, Moscow \, \, Russia
END:VEVENT
END:VCALENDAR