BEGIN:VCALENDAR
VERSION:2.0
PRODID:-//AudioTheme 1.8.2
BEGIN:VEVENT
UID:http://stango.ru/?post_type=audiotheme_gig&#038;p=2498
URL:http://stango.ru/shows/moscow-3/
DTSTART;VALUE=DATE:20160925
SUMMARY:Moscow Theater event
DESCRIPTION: Booked. Moscow 
LOCATION:Moscow\, Moscow \, \, Russia
END:VEVENT
END:VCALENDAR