BEGIN:VCALENDAR
VERSION:2.0
PRODID:-//AudioTheme 1.8.2
BEGIN:VEVENT
UID:http://stango.ru/?post_type=audiotheme_gig&#038;p=3144
URL:http://stango.ru/shows/moscow-32/
DTSTART;VALUE=DATE:20191219
SUMMARY:Moscow
LOCATION:Rachmaninoff Concert Hall (Philharmonia-2)\, Moscow\, \, russia \,  Michurinsky Prospekt 1\, Olympic Village
END:VEVENT
END:VCALENDAR