BEGIN:VCALENDAR
VERSION:2.0
PRODID:-//AudioTheme 1.8.2
BEGIN:VEVENT
UID:http://stango.ru/?post_type=audiotheme_gig&#038;p=3145
URL:http://stango.ru/shows/moscow-33/
DTSTART;VALUE=DATE:20200224
SUMMARY:Moscow
DESCRIPTION:«Танго XXI века»
LOCATION:Rachmaninoff Concert Hall (Philharmonia-2)\, Moscow\, \, russia \,  Michurinsky Prospekt 1\, Olympic Village
END:VEVENT
END:VCALENDAR