BEGIN:VCALENDAR
VERSION:2.0
PRODID:-//AudioTheme 1.8.2
BEGIN:VEVENT
UID:http://stango.ru/?post_type=audiotheme_gig&#038;p=3679
URL:http://stango.ru/shows/moscow-42/
DTSTART;VALUE=DATE:20210414
SUMMARY:Moscow
LOCATION:Дом Музыки\, Москва\, \, Россия
END:VEVENT
END:VCALENDAR