BEGIN:VCALENDAR
VERSION:2.0
PRODID:-//AudioTheme 1.8.2
BEGIN:VEVENT
UID:http://stango.ru/?post_type=audiotheme_gig&#038;p=2716
URL:http://stango.ru/shows/moscow-5/
DTSTART;VALUE=DATE:20170915
SUMMARY:"Tango Gala"
DESCRIPTION:"TANGO GALA! " - представление\, которое соберет на одной сцене одних из самых лучших в мире музыкантов и танцоров Аргентинского танго !  15 cентября  19.00 Московский  Мюзик-Холл 
LOCATION:Moscow Music hall\, Каланчевская ул.\, 33/12с2\, Moscow \, \, Russia \, 129090
END:VEVENT
END:VCALENDAR