BEGIN:VCALENDAR
VERSION:2.0
PRODID:-//AudioTheme 1.8.2
BEGIN:VEVENT
UID:http://stango.ru/?post_type=audiotheme_gig&#038;p=2308
URL:http://stango.ru/shows/moscow-milonga-el-calor/
DTSTART;VALUE=DATE:20160401
SUMMARY:Moscow Milonga El Calor
LOCATION:Milonga "El Calor"\, Orlikov per. 1\, Moscow\, \, Russia 
END:VEVENT
END:VCALENDAR