BEGIN:VCALENDAR
VERSION:2.0
PRODID:-//AudioTheme 1.8.2
BEGIN:VEVENT
UID:http://stango.ru/?post_type=audiotheme_gig&#038;p=2599
URL:http://stango.ru/shows/moscow-tango-holidays-4/
DTSTART;TZID=GMT:20170105T000000
SUMMARY:Moscow Tango Holidays
DESCRIPTION:Moscow Tango Holidays \,  Milonga 
LOCATION:Moscow\, Moscow \, \, Russia
END:VEVENT
END:VCALENDAR