BEGIN:VCALENDAR
VERSION:2.0
PRODID:-//AudioTheme 1.8.2
BEGIN:VEVENT
UID:http://stango.ru/?post_type=audiotheme_gig&#038;p=3123
URL:http://stango.ru/shows/moscow-tango-holidays-8/
DTSTART;VALUE=DATE:20190106
SUMMARY:Moscow Tango Holidays
DESCRIPTION:Gran Milonga of the  festival Moscow Tango Holidays 
LOCATION:Hilton Moscow Leningradskaya\, Москва\, \, Россия
END:VEVENT
END:VCALENDAR