BEGIN:VCALENDAR
VERSION:2.0
PRODID:-//AudioTheme 1.8.2
BEGIN:VEVENT
UID:http://stango.ru/?post_type=audiotheme_gig&#038;p=3127
URL:http://stango.ru/shows/nizhny-novgorod-8/
DTSTART;VALUE=DATE:20190312
SUMMARY:Nizhny Novgorod
DESCRIPTION:Concert with Chino Laborde in Philharmonic hall of  Nizhny Novgorod
LOCATION:Нижний  Новгород\, Нижний  Новгород\, \, Россия
END:VEVENT
END:VCALENDAR