BEGIN:VCALENDAR
VERSION:2.0
PRODID:-//AudioTheme 1.8.2
BEGIN:VEVENT
UID:http://stango.ru/?post_type=audiotheme_gig&#038;p=2494
URL:http://stango.ru/shows/obninsk/
DTSTART;VALUE=DATE:20170215
SUMMARY:Obninsk
DESCRIPTION:Обнинск  "Дом Ученых"
LOCATION:Obninsk\, Obninsk\, \, Russia
END:VEVENT
END:VCALENDAR