BEGIN:VCALENDAR
VERSION:2.0
PRODID:-//AudioTheme 1.8.2
BEGIN:VEVENT
UID:http://stango.ru/?post_type=audiotheme_gig&#038;p=3153
URL:http://stango.ru/shows/paris-3/
DTSTART;VALUE=DATE:20190728
SUMMARY:Paris
DESCRIPTION:Paris tango festival 
LOCATION:Paris\, Paris\, \, France
END:VEVENT
END:VCALENDAR