BEGIN:VCALENDAR
VERSION:2.0
PRODID:-//AudioTheme 1.8.2
BEGIN:VEVENT
UID:http://stango.ru/?post_type=audiotheme_gig&#038;p=2410
URL:http://stango.ru/shows/paris/
DTSTART;VALUE=DATE:20160710
SUMMARY:PARIS
DESCRIPTION:Milonga LA DOLCE VITA
LOCATION:Paris\, Paris\, \, France
END:VEVENT
END:VCALENDAR