BEGIN:VCALENDAR
VERSION:2.0
PRODID:-//AudioTheme 1.8.2
BEGIN:VEVENT
UID:http://stango.ru/?post_type=audiotheme_gig&#038;p=2479
URL:http://stango.ru/shows/pau-2/
DTSTART;TZID=GMT:20161001T000000
SUMMARY:Pau
LOCATION:PAU\, Pau\, \, France
END:VEVENT
END:VCALENDAR