BEGIN:VCALENDAR
VERSION:2.0
PRODID:-//AudioTheme 1.8.2
BEGIN:VEVENT
UID:http://stango.ru/?post_type=audiotheme_gig&#038;p=2970
URL:http://stango.ru/shows/porec/
DTSTART;VALUE=DATE:20180707
SUMMARY:Porec
DESCRIPTION:  Porec  Tango Festival   
LOCATION:Porec
END:VEVENT
END:VCALENDAR