BEGIN:VCALENDAR
VERSION:2.0
PRODID:-//AudioTheme 1.8.2
BEGIN:VEVENT
UID:http://stango.ru/?post_type=audiotheme_gig&#038;p=2972
URL:http://stango.ru/shows/samsun/
DTSTART;VALUE=DATE:20180306
SUMMARY:Samsun
DESCRIPTION:Turkey 
LOCATION:Samsun\, Samsun\, \, Turkey
END:VEVENT
END:VCALENDAR