BEGIN:VCALENDAR
VERSION:2.0
PRODID:-//AudioTheme 1.8.2
BEGIN:VEVENT
UID:http://stango.ru/?post_type=audiotheme_gig&#038;p=3349
URL:http://stango.ru/shows/seviglia/
DTSTART;VALUE=DATE:20200227
SUMMARY:Seviglia
LOCATION:Spain\, Seviglia \, \, Spain 
END:VEVENT
END:VCALENDAR