BEGIN:VCALENDAR
VERSION:2.0
PRODID:-//AudioTheme 1.8.2
BEGIN:VEVENT
UID:http://stango.ru/?post_type=audiotheme_gig&#038;p=2930
URL:http://stango.ru/shows/st-petersburg-4/
DTSTART;VALUE=DATE:20180317
SUMMARY:St Petersburg
DESCRIPTION:«Мировые Звёзды Танго и SOLO TANGO ORQUESTA»
LOCATION:St Petersburg\, St Petersburg\, \, Russia
END:VEVENT
END:VCALENDAR