BEGIN:VCALENDAR
VERSION:2.0
PRODID:-//AudioTheme 1.8.2
BEGIN:VEVENT
UID:http://stango.ru/?post_type=audiotheme_gig&#038;p=2714
URL:http://stango.ru/shows/stockholm-2/
DTSTART;VALUE=DATE:20171006
SUMMARY:Stockholm
LOCATION:Stockholm\, Stockholm\, \, Sweden
END:VEVENT
END:VCALENDAR