BEGIN:VCALENDAR
VERSION:2.0
PRODID:-//AudioTheme 1.8.2
BEGIN:VEVENT
UID:http://stango.ru/?post_type=audiotheme_gig&#038;p=2520
URL:http://stango.ru/shows/stuttgard/
DTSTART;TZID=GMT:20161021T000000
SUMMARY:Stuttgard
LOCATION:Stuttgard
END:VEVENT
END:VCALENDAR