BEGIN:VCALENDAR
VERSION:2.0
PRODID:-//AudioTheme 1.8.2
BEGIN:VEVENT
UID:http://stango.ru/?post_type=audiotheme_gig&#038;p=3152
URL:http://stango.ru/shows/taiwan-2/
DTSTART;VALUE=DATE:20191004
SUMMARY:Taiwan
DESCRIPTION:4-6 october Taiwan
END:VEVENT
END:VCALENDAR