BEGIN:VCALENDAR
VERSION:2.0
PRODID:-//AudioTheme 1.8.2
BEGIN:VEVENT
UID:http://stango.ru/?post_type=audiotheme_gig&#038;p=3738
URL:http://stango.ru/shows/tango-to-istanbul/
DTSTART;VALUE=DATE:20210821
SUMMARY:TanGO to Istanbul
LOCATION:Istanbul\, Turkey
END:VEVENT
END:VCALENDAR