BEGIN:VCALENDAR
VERSION:2.0
PRODID:-//AudioTheme 1.8.2
BEGIN:VEVENT
UID:http://stango.ru/?post_type=audiotheme_gig&#038;p=2185
URL:http://stango.ru/shows/tangoto-isatnbul-festival/
DTSTART;VALUE=DATE:20160402
SUMMARY:Moscow Philarmonic
DESCRIPTION: Solo Tango Orquesta & D-Fusion
LOCATION:Rachmaninoff Concert Hall (Philharmonia-2)\, Moscow\, \, russia \,  Michurinsky Prospekt 1\, Olympic Village
END:VEVENT
END:VCALENDAR