BEGIN:VCALENDAR
VERSION:2.0
PRODID:-//AudioTheme 1.8.2
BEGIN:VEVENT
UID:http://stango.ru/?post_type=audiotheme_gig&#038;p=3736
URL:http://stango.ru/shows/tangotoistanbul-festival-3/
DTSTART;VALUE=DATE:20210820
SUMMARY:TangoToIstanbul  festival
DESCRIPTION:TangoToIstanbul  festival 
LOCATION:Istanbul\, Turkey
END:VEVENT
END:VCALENDAR