BEGIN:VCALENDAR
VERSION:2.0
PRODID:-//AudioTheme 1.8.2
BEGIN:VEVENT
UID:http://stango.ru/?post_type=audiotheme_gig&#038;p=2186
URL:http://stango.ru/shows/tangotoistanbul-festival/
DTSTART;VALUE=DATE:20160303
SUMMARY:TangoToIstanbul festival
DESCRIPTION:TanGo To Istanbul festival
LOCATION:TanGo to Istanbul festival\, Istanbul\, \, Turkey
END:VEVENT
END:VCALENDAR