BEGIN:VCALENDAR
VERSION:2.0
PRODID:-//AudioTheme 1.8.2
BEGIN:VEVENT
UID:http://stango.ru/?post_type=audiotheme_gig&#038;p=2441
URL:http://stango.ru/shows/tchaikovsky-moscow-state-conservatory/
DTSTART;TZID=GMT:20170311T000000
SUMMARY:Tchaikovsky Moscow State Conservatory
LOCATION:Tchaikovsky Moscow State Conservatory\, Moscow\, \, Russia
END:VEVENT
END:VCALENDAR