BEGIN:VCALENDAR
VERSION:2.0
PRODID:-//AudioTheme 1.8.2
BEGIN:VEVENT
UID:http://stango.ru/?post_type=audiotheme_gig&#038;p=2685
URL:http://stango.ru/shows/treviso/
DTSTART;VALUE=DATE:20171124
SUMMARY:Treviso
LOCATION:Treviso\, Treviso\, \, Italy 
END:VEVENT
END:VCALENDAR